BEGIN:VCALENDAR
VERSION:2.0
PRODID:-//pretix//pretix.eu//
BEGIN:VTIMEZONE
TZID:Europe/Berlin
BEGIN:STANDARD
DTSTART:20001029T040000
RRULE:FREQ=YEARLY;BYDAY=-1SU;BYMONTH=10
TZNAME:CET
TZOFFSETFROM:+0200
TZOFFSETTO:+0100
END:STANDARD
BEGIN:DAYLIGHT
DTSTART:20000326T030000
RRULE:FREQ=YEARLY;BYDAY=-1SU;BYMONTH=3
TZNAME:CEST
TZOFFSETFROM:+0100
TZOFFSETTO:+0200
END:DAYLIGHT
END:VTIMEZONE
BEGIN:VEVENT
UID:pretix-kobras-ha-kobraherren1-4721444@kobras.vereinsticket.de
DTSTART;TZID=Europe/Berlin:20251109T160000
DTEND;TZID=Europe/Berlin:20251109T173000
DESCRIPTION:Tickets: https://kobras.vereinsticket.de/ha-kobraherren1/472144
 4/\nVeranstalter: TSV Speyer e.V. Handballabteilung
DTSTAMP:20260425T181343Z
LOCATION:Osthalle Speyer / Kobranest\, Fritz-Ober-Straße 3\, 67346 Speyer
SUMMARY:Heimspiel TSV Speyer vs. TG Waldsee
END:VEVENT
END:VCALENDAR
